BEGIN:VCALENDAR
VERSION:2.0
PRODID:-//Philinter Academy - ECPv6.10.1//NONSGML v1.0//EN
CALSCALE:GREGORIAN
METHOD:PUBLISH
X-WR-CALNAME:Philinter Academy
X-ORIGINAL-URL:https://philinter.com
X-WR-CALDESC:Events for Philinter Academy
REFRESH-INTERVAL;VALUE=DURATION:PT1H
X-Robots-Tag:noindex
X-PUBLISHED-TTL:PT1H
BEGIN:VTIMEZONE
TZID:Asia/Manila
BEGIN:STANDARD
TZOFFSETFROM:+0800
TZOFFSETTO:+0800
TZNAME:PST
DTSTART:20260101T000000
END:STANDARD
END:VTIMEZONE
BEGIN:VEVENT
DTSTART;TZID=Asia/Manila:20260423T090000
DTEND;TZID=Asia/Manila:20260423T110000
DTSTAMP:20260423T185514
CREATED:20260413T065440Z
LAST-MODIFIED:20260413T065440Z
UID:10006252-1776934800-1776942000@philinter.com
SUMMARY:CALA Grand Fam Tour
DESCRIPTION:
URL:https://philinter.com/event/cala-grand-fam-tour/2026-04-23/
END:VEVENT
BEGIN:VEVENT
DTSTART;TZID=Asia/Manila:20260423T170000
DTEND;TZID=Asia/Manila:20260423T180000
DTSTAMP:20260423T185514
CREATED:20260413T070006Z
LAST-MODIFIED:20260413T070006Z
UID:10006258-1776963600-1776967200@philinter.com
SUMMARY:Graduation
DESCRIPTION:
URL:https://philinter.com/event/graduation-78/2026-04-23/
END:VEVENT
BEGIN:VEVENT
DTSTART;TZID=Asia/Manila:20260423T183000
DTEND;TZID=Asia/Manila:20260423T203000
DTSTAMP:20260423T185514
CREATED:20260413T064744Z
LAST-MODIFIED:20260413T064744Z
UID:10006236-1776969000-1776976200@philinter.com
SUMMARY:Movie Time
DESCRIPTION:
URL:https://philinter.com/event/movie-time-69/2026-04-23/
END:VEVENT
BEGIN:VEVENT
DTSTART;TZID=Asia/Manila:20260424T080000
DTEND;TZID=Asia/Manila:20260424T100500
DTSTAMP:20260423T185514
CREATED:20260413T065115Z
LAST-MODIFIED:20260413T065115Z
UID:10006244-1777017600-1777025100@philinter.com
SUMMARY:TOEIC Mock Test
DESCRIPTION:
URL:https://philinter.com/event/toeic-mock-test-57/2026-04-24/
END:VEVENT
BEGIN:VEVENT
DTSTART;TZID=Asia/Manila:20260424T080000
DTEND;TZID=Asia/Manila:20260424T120000
DTSTAMP:20260423T185514
CREATED:20260413T065031Z
LAST-MODIFIED:20260413T065031Z
UID:10006242-1777017600-1777032000@philinter.com
SUMMARY:Progress Test
DESCRIPTION:
URL:https://philinter.com/event/progress-test-72/2026-04-24/
END:VEVENT
BEGIN:VEVENT
DTSTART;TZID=Asia/Manila:20260424T090000
DTEND;TZID=Asia/Manila:20260424T110000
DTSTAMP:20260423T185514
CREATED:20260413T065440Z
LAST-MODIFIED:20260413T065440Z
UID:10006253-1777021200-1777028400@philinter.com
SUMMARY:CALA Grand Fam Tour
DESCRIPTION:
URL:https://philinter.com/event/cala-grand-fam-tour/2026-04-24/
END:VEVENT
BEGIN:VEVENT
DTSTART;TZID=Asia/Manila:20260424T130000
DTEND;TZID=Asia/Manila:20260424T170000
DTSTAMP:20260423T185514
CREATED:20260413T065547Z
LAST-MODIFIED:20260413T065547Z
UID:10006254-1777035600-1777050000@philinter.com
SUMMARY:English Day
DESCRIPTION:
URL:https://philinter.com/event/english-day-17/
END:VEVENT
BEGIN:VEVENT
DTSTART;TZID=Asia/Manila:20260425T090000
DTEND;TZID=Asia/Manila:20260425T120000
DTSTAMP:20260423T185514
CREATED:20260413T065329Z
LAST-MODIFIED:20260413T065329Z
UID:10006248-1777107600-1777118400@philinter.com
SUMMARY:IELTS Mock Test
DESCRIPTION:
URL:https://philinter.com/event/ielts-mock-test-71/2026-04-25/
END:VEVENT
BEGIN:VEVENT
DTSTART;TZID=Asia/Manila:20260425T140000
DTEND;TZID=Asia/Manila:20260425T160000
DTSTAMP:20260423T185514
CREATED:20260413T065728Z
LAST-MODIFIED:20260413T065728Z
UID:10006256-1777125600-1777132800@philinter.com
SUMMARY:Outreach Program
DESCRIPTION:
URL:https://philinter.com/event/outreach-program-14/2026-04-25/
END:VEVENT
BEGIN:VEVENT
DTSTART;VALUE=DATE:20260427
DTEND;VALUE=DATE:20260428
DTSTAMP:20260423T185514
CREATED:20260413T065812Z
LAST-MODIFIED:20260413T065812Z
UID:10006257-1777248000-1777334399@philinter.com
SUMMARY:Kadaugan sa Mactan Festival
DESCRIPTION:
URL:https://philinter.com/event/kadaugan-sa-mactan-festival/
END:VEVENT
BEGIN:VEVENT
DTSTART;TZID=Asia/Manila:20260427T080000
DTEND;TZID=Asia/Manila:20260427T120000
DTSTAMP:20260423T185514
CREATED:20260413T063844Z
LAST-MODIFIED:20260413T063844Z
UID:10006211-1777276800-1777291200@philinter.com
SUMMARY:Placement Test
DESCRIPTION:
URL:https://philinter.com/event/placement-test-68/2026-04-27/
ATTACH;FMTTYPE=image/png:https://philinter.com/wp-content/uploads/2024/09/PLACEMENT.png
END:VEVENT
BEGIN:VEVENT
DTSTART;TZID=Asia/Manila:20260427T180000
DTEND;TZID=Asia/Manila:20260427T190000
DTSTAMP:20260423T185514
CREATED:20260413T063941Z
LAST-MODIFIED:20260413T063941Z
UID:10006215-1777312800-1777316400@philinter.com
SUMMARY:Yoga Basics
DESCRIPTION:
URL:https://philinter.com/event/yoga-basics-5/2026-04-27/
END:VEVENT
BEGIN:VEVENT
DTSTART;TZID=Asia/Manila:20260428T170000
DTEND;TZID=Asia/Manila:20260428T173000
DTSTAMP:20260423T185514
CREATED:20260413T064042Z
LAST-MODIFIED:20260413T064042Z
UID:10006219-1777395600-1777397400@philinter.com
SUMMARY:Zumba
DESCRIPTION:
URL:https://philinter.com/event/zumba-66/2026-04-28/
ATTACH;FMTTYPE=image/jpeg:https://philinter.com/wp-content/uploads/2024/09/ZUMBA-scaled.jpg
END:VEVENT
BEGIN:VEVENT
DTSTART;TZID=Asia/Manila:20260428T180000
DTEND;TZID=Asia/Manila:20260428T190000
DTSTAMP:20260423T185514
CREATED:20260413T064152Z
LAST-MODIFIED:20260413T064152Z
UID:10006223-1777399200-1777402800@philinter.com
SUMMARY:Board Game Time
DESCRIPTION:
URL:https://philinter.com/event/board-game-time-3/2026-04-28/
ATTACH;FMTTYPE=image/jpeg:https://philinter.com/wp-content/uploads/2025/06/WORDQUEST-IMAGE-08-scaled.jpg
END:VEVENT
BEGIN:VEVENT
DTSTART;TZID=Asia/Manila:20260429T170000
DTEND;TZID=Asia/Manila:20260429T173000
DTSTAMP:20260423T185514
CREATED:20260413T064307Z
LAST-MODIFIED:20260413T064307Z
UID:10006227-1777482000-1777483800@philinter.com
SUMMARY:Weekly Test
DESCRIPTION:
URL:https://philinter.com/event/weekly-test-66/2026-04-29/
ATTACH;FMTTYPE=image/png:https://philinter.com/wp-content/uploads/2024/09/WEEKLY.png
END:VEVENT
BEGIN:VEVENT
DTSTART;TZID=Asia/Manila:20260429T180000
DTEND;TZID=Asia/Manila:20260429T185000
DTSTAMP:20260423T185514
CREATED:20260413T064447Z
LAST-MODIFIED:20260413T064447Z
UID:10006231-1777485600-1777488600@philinter.com
SUMMARY:Music Club
DESCRIPTION:
URL:https://philinter.com/event/music-club-57/2026-04-29/
END:VEVENT
BEGIN:VEVENT
DTSTART;TZID=Asia/Manila:20260430T080000
DTEND;TZID=Asia/Manila:20260430T100500
DTSTAMP:20260423T185514
CREATED:20260413T070211Z
LAST-MODIFIED:20260413T070211Z
UID:10006260-1777536000-1777543500@philinter.com
SUMMARY:TOEIC Mock Test
DESCRIPTION:
URL:https://philinter.com/event/toeic-mock-test-58/
END:VEVENT
BEGIN:VEVENT
DTSTART;TZID=Asia/Manila:20260430T080000
DTEND;TZID=Asia/Manila:20260430T120000
DTSTAMP:20260423T185514
CREATED:20260413T070235Z
LAST-MODIFIED:20260413T070235Z
UID:10006261-1777536000-1777550400@philinter.com
SUMMARY:Progress Test
DESCRIPTION:
URL:https://philinter.com/event/progress-test-73/
END:VEVENT
BEGIN:VEVENT
DTSTART;TZID=Asia/Manila:20260430T170000
DTEND;TZID=Asia/Manila:20260430T180000
DTSTAMP:20260423T185514
CREATED:20260413T070006Z
LAST-MODIFIED:20260413T070006Z
UID:10006259-1777568400-1777572000@philinter.com
SUMMARY:Graduation
DESCRIPTION:
URL:https://philinter.com/event/graduation-78/2026-04-30/
END:VEVENT
BEGIN:VEVENT
DTSTART;TZID=Asia/Manila:20260430T183000
DTEND;TZID=Asia/Manila:20260430T203000
DTSTAMP:20260423T185514
CREATED:20260413T064744Z
LAST-MODIFIED:20260413T064744Z
UID:10006237-1777573800-1777581000@philinter.com
SUMMARY:Movie Time
DESCRIPTION:
URL:https://philinter.com/event/movie-time-69/2026-04-30/
END:VEVENT
END:VCALENDAR