BEGIN:VCALENDAR
VERSION:2.0
PRODID:-//Philinter Academy - ECPv6.10.1//NONSGML v1.0//EN
CALSCALE:GREGORIAN
METHOD:PUBLISH
X-WR-CALNAME:Philinter Academy
X-ORIGINAL-URL:https://philinter.com
X-WR-CALDESC:Events for Philinter Academy
REFRESH-INTERVAL;VALUE=DURATION:PT1H
X-Robots-Tag:noindex
X-PUBLISHED-TTL:PT1H
BEGIN:VTIMEZONE
TZID:Asia/Manila
BEGIN:STANDARD
TZOFFSETFROM:+0800
TZOFFSETTO:+0800
TZNAME:PST
DTSTART:20260101T000000
END:STANDARD
END:VTIMEZONE
BEGIN:VEVENT
DTSTART;TZID=Asia/Manila:20260424T080000
DTEND;TZID=Asia/Manila:20260424T100500
DTSTAMP:20260423T203725
CREATED:20260413T065115Z
LAST-MODIFIED:20260413T065115Z
UID:10006244-1777017600-1777025100@philinter.com
SUMMARY:TOEIC Mock Test
DESCRIPTION:
URL:https://philinter.com/event/toeic-mock-test-57/2026-04-24/
END:VEVENT
END:VCALENDAR