BEGIN:VCALENDAR
VERSION:2.0
PRODID:-//Philinter Academy - ECPv6.10.1//NONSGML v1.0//EN
CALSCALE:GREGORIAN
METHOD:PUBLISH
X-ORIGINAL-URL:https://philinter.com
X-WR-CALDESC:Events for Philinter Academy
REFRESH-INTERVAL;VALUE=DURATION:PT1H
X-Robots-Tag:noindex
X-PUBLISHED-TTL:PT1H
BEGIN:VTIMEZONE
TZID:Asia/Manila
BEGIN:STANDARD
TZOFFSETFROM:+0800
TZOFFSETTO:+0800
TZNAME:PST
DTSTART:20260101T000000
END:STANDARD
END:VTIMEZONE
BEGIN:VEVENT
DTSTART;TZID=Asia/Manila:20260429T180000
DTEND;TZID=Asia/Manila:20260429T185000
DTSTAMP:20260423T204347
CREATED:20260413T064447Z
LAST-MODIFIED:20260413T064447Z
UID:10006231-1777485600-1777488600@philinter.com
SUMMARY:Music Club
DESCRIPTION:
URL:https://philinter.com/event/music-club-57/2026-04-29/
END:VEVENT
END:VCALENDAR