BEGIN:VCALENDAR
VERSION:2.0
PRODID:-//Philinter Academy - ECPv6.10.1//NONSGML v1.0//EN
CALSCALE:GREGORIAN
METHOD:PUBLISH
X-WR-CALNAME:Philinter Academy
X-ORIGINAL-URL:https://philinter.com
X-WR-CALDESC:Events for Philinter Academy
REFRESH-INTERVAL;VALUE=DURATION:PT1H
X-Robots-Tag:noindex
X-PUBLISHED-TTL:PT1H
BEGIN:VTIMEZONE
TZID:Asia/Manila
BEGIN:STANDARD
TZOFFSETFROM:+0800
TZOFFSETTO:+0800
TZNAME:PST
DTSTART:20260101T000000
END:STANDARD
END:VTIMEZONE
BEGIN:VEVENT
DTSTART;TZID=Asia/Manila:20260420T090000
DTEND;TZID=Asia/Manila:20260420T110000
DTSTAMP:20260423T204346
CREATED:20260413T065440Z
LAST-MODIFIED:20260413T065440Z
UID:10006249-1776675600-1776682800@philinter.com
SUMMARY:CALA Grand Fam Tour
DESCRIPTION:
URL:https://philinter.com/event/cala-grand-fam-tour/2026-04-20/
END:VEVENT
END:VCALENDAR