BEGIN:VCALENDAR
VERSION:2.0
PRODID:-//Philinter Academy - ECPv6.10.1//NONSGML v1.0//EN
CALSCALE:GREGORIAN
METHOD:PUBLISH
X-WR-CALNAME:Philinter Academy
X-ORIGINAL-URL:https://philinter.com
X-WR-CALDESC:Events for Philinter Academy
REFRESH-INTERVAL;VALUE=DURATION:PT1H
X-Robots-Tag:noindex
X-PUBLISHED-TTL:PT1H
BEGIN:VTIMEZONE
TZID:Asia/Manila
BEGIN:STANDARD
TZOFFSETFROM:+0800
TZOFFSETTO:+0800
TZNAME:PST
DTSTART:20260101T000000
END:STANDARD
END:VTIMEZONE
BEGIN:VEVENT
DTSTART;TZID=Asia/Manila:20260326T170000
DTEND;TZID=Asia/Manila:20260326T180000
DTSTAMP:20260424T074307
CREATED:20260304T013859Z
LAST-MODIFIED:20260304T013859Z
UID:19510-1774544400-1774548000@philinter.com
SUMMARY:Graduation
DESCRIPTION:
URL:https://philinter.com/event/graduation-73/
END:VEVENT
END:VCALENDAR