BEGIN:VCALENDAR
VERSION:2.0
PRODID:-//Philinter Academy - ECPv6.10.1//NONSGML v1.0//EN
CALSCALE:GREGORIAN
METHOD:PUBLISH
X-WR-CALNAME:Philinter Academy
X-ORIGINAL-URL:https://philinter.com
X-WR-CALDESC:Events for Philinter Academy
REFRESH-INTERVAL;VALUE=DURATION:PT1H
X-Robots-Tag:noindex
X-PUBLISHED-TTL:PT1H
BEGIN:VTIMEZONE
TZID:Asia/Manila
BEGIN:STANDARD
TZOFFSETFROM:+0800
TZOFFSETTO:+0800
TZNAME:PST
DTSTART:20240101T000000
END:STANDARD
END:VTIMEZONE
BEGIN:VEVENT
DTSTART;TZID=Asia/Manila:20240629T080000
DTEND;TZID=Asia/Manila:20240629T110000
DTSTAMP:20260426T113001
CREATED:20240613T032700Z
LAST-MODIFIED:20240905T080821Z
UID:8878-1719648000-1719658800@philinter.com
SUMMARY:IETLS Mock Test
DESCRIPTION:Practice Test for IELTS Students\, covering IELTS Speaking\, Listening\, Reading\, and Writing. An expert teacher is assigned to guide the students through the test.
URL:https://philinter.com/event/ietls-mock-test/
ATTACH;FMTTYPE=image/png:https://philinter.com/wp-content/uploads/2024/07/IMG_6615.png
END:VEVENT
END:VCALENDAR