BEGIN:VCALENDAR
VERSION:2.0
PRODID:-//Philinter Academy - ECPv6.10.1//NONSGML v1.0//EN
CALSCALE:GREGORIAN
METHOD:PUBLISH
X-WR-CALNAME:Philinter Academy
X-ORIGINAL-URL:https://philinter.com
X-WR-CALDESC:Events for Philinter Academy
REFRESH-INTERVAL;VALUE=DURATION:PT1H
X-Robots-Tag:noindex
X-PUBLISHED-TTL:PT1H
BEGIN:VTIMEZONE
TZID:Asia/Manila
BEGIN:STANDARD
TZOFFSETFROM:+0800
TZOFFSETTO:+0800
TZNAME:PST
DTSTART:20260101T000000
END:STANDARD
END:VTIMEZONE
BEGIN:VEVENT
DTSTART;TZID=Asia/Manila:20260326T183000
DTEND;TZID=Asia/Manila:20260326T203000
DTSTAMP:20260423T183252
CREATED:20260304T013824Z
LAST-MODIFIED:20260304T013824Z
UID:10006175-1774549800-1774557000@philinter.com
SUMMARY:Movie Time
DESCRIPTION:
URL:https://philinter.com/event/movie-time-68/2026-03-26/
ATTACH;FMTTYPE=image/jpeg:https://philinter.com/wp-content/uploads/2024/09/MOVIE-scaled.jpg
END:VEVENT
END:VCALENDAR