BEGIN:VCALENDAR
VERSION:2.0
PRODID:-//Philinter Academy - ECPv6.10.1//NONSGML v1.0//EN
CALSCALE:GREGORIAN
METHOD:PUBLISH
X-WR-CALNAME:Philinter Academy
X-ORIGINAL-URL:https://philinter.com
X-WR-CALDESC:Events for Philinter Academy
REFRESH-INTERVAL;VALUE=DURATION:PT1H
X-Robots-Tag:noindex
X-PUBLISHED-TTL:PT1H
BEGIN:VTIMEZONE
TZID:Asia/Manila
BEGIN:STANDARD
TZOFFSETFROM:+0800
TZOFFSETTO:+0800
TZNAME:PST
DTSTART:20260101T000000
END:STANDARD
END:VTIMEZONE
BEGIN:VEVENT
DTSTART;TZID=Asia/Manila:20260409T183000
DTEND;TZID=Asia/Manila:20260409T203000
DTSTAMP:20260423T230954
CREATED:20260413T064744Z
LAST-MODIFIED:20260413T064744Z
UID:10006234-1775759400-1775766600@philinter.com
SUMMARY:Movie Time
DESCRIPTION:
URL:https://philinter.com/event/movie-time-69/2026-04-09/
END:VEVENT
END:VCALENDAR