BEGIN:VCALENDAR
VERSION:2.0
PRODID:-//Philinter Academy - ECPv6.10.1//NONSGML v1.0//EN
CALSCALE:GREGORIAN
METHOD:PUBLISH
X-WR-CALNAME:Philinter Academy
X-ORIGINAL-URL:https://philinter.com
X-WR-CALDESC:Events for Philinter Academy
REFRESH-INTERVAL;VALUE=DURATION:PT1H
X-Robots-Tag:noindex
X-PUBLISHED-TTL:PT1H
BEGIN:VTIMEZONE
TZID:Asia/Manila
BEGIN:STANDARD
TZOFFSETFROM:+0800
TZOFFSETTO:+0800
TZNAME:PST
DTSTART:20240101T000000
END:STANDARD
END:VTIMEZONE
BEGIN:VEVENT
DTSTART;TZID=Asia/Manila:20240615T140000
DTEND;TZID=Asia/Manila:20240615T170000
DTSTAMP:20260426T101820
CREATED:20240613T031744Z
LAST-MODIFIED:20250414T031508Z
UID:8872-1718460000-1718470800@philinter.com
SUMMARY:Outreach Program
DESCRIPTION:Philinter Academy’s outreach program is dedicated to giving back to the community. Through this initiative\, our students and staff engage in meaningful activities that support and uplift local communities\, fostering a spirit of compassion and social responsibility.
URL:https://philinter.com/event/outreach-program/
LOCATION:Barangay Parian\, Sikatuna Street\, Cebu City\, Philippines\, Barangay Parian\, Sikatuna Street\, Cebu\, Philippines
CATEGORIES:Non Academic
ATTACH;FMTTYPE=image/jpeg:https://philinter.com/wp-content/uploads/2025/04/489913282_1097021419131618_3687487313798298893_n.jpg
END:VEVENT
END:VCALENDAR