BEGIN:VCALENDAR
VERSION:2.0
PRODID:-//Philinter Academy - ECPv6.10.1//NONSGML v1.0//EN
CALSCALE:GREGORIAN
METHOD:PUBLISH
X-WR-CALNAME:Philinter Academy
X-ORIGINAL-URL:https://philinter.com
X-WR-CALDESC:Events for Philinter Academy
REFRESH-INTERVAL;VALUE=DURATION:PT1H
X-Robots-Tag:noindex
X-PUBLISHED-TTL:PT1H
BEGIN:VTIMEZONE
TZID:Asia/Manila
BEGIN:STANDARD
TZOFFSETFROM:+0800
TZOFFSETTO:+0800
TZNAME:PST
DTSTART:20240101T000000
END:STANDARD
END:VTIMEZONE
BEGIN:VEVENT
DTSTART;TZID=Asia/Manila:20240620T080000
DTEND;TZID=Asia/Manila:20240620T120000
DTSTAMP:20260425T224236
CREATED:20240613T070501Z
LAST-MODIFIED:20240905T082810Z
UID:8985-1718870400-1718884800@philinter.com
SUMMARY:Progress Test
DESCRIPTION:Students take a Progress Test before graduation to assess their level of improvement. This test helps determine their growth and readiness for the next stage of their English learning journey. \n 
URL:https://philinter.com/event/progress-test-3/
ATTACH;FMTTYPE=image/png:https://philinter.com/wp-content/uploads/2024/09/PROGRESS.png
END:VEVENT
END:VCALENDAR