BEGIN:VCALENDAR
VERSION:2.0
PRODID:-//Philinter Academy - ECPv6.10.1//NONSGML v1.0//EN
CALSCALE:GREGORIAN
METHOD:PUBLISH
X-WR-CALNAME:Philinter Academy
X-ORIGINAL-URL:https://philinter.com
X-WR-CALDESC:Events for Philinter Academy
REFRESH-INTERVAL;VALUE=DURATION:PT1H
X-Robots-Tag:noindex
X-PUBLISHED-TTL:PT1H
BEGIN:VTIMEZONE
TZID:Asia/Manila
BEGIN:STANDARD
TZOFFSETFROM:+0800
TZOFFSETTO:+0800
TZNAME:PST
DTSTART:20240101T000000
END:STANDARD
END:VTIMEZONE
BEGIN:VEVENT
DTSTART;TZID=Asia/Manila:20240625T080000
DTEND;TZID=Asia/Manila:20240625T170000
DTSTAMP:20260425T201938
CREATED:20240613T053408Z
LAST-MODIFIED:20240905T081155Z
UID:8906-1719302400-1719334800@philinter.com
SUMMARY:Teachers’ Training
DESCRIPTION:The goal of teacher training is to empower educators to inspire and guide their students toward academic success and personal growth.
URL:https://philinter.com/event/teachers-training-5/
CATEGORIES:Academic
ATTACH;FMTTYPE=image/jpeg:https://philinter.com/wp-content/uploads/2024/09/GENERAL-MEETING-scaled.jpg
END:VEVENT
END:VCALENDAR