BEGIN:VCALENDAR
VERSION:2.0
PRODID:-//Philinter Academy - ECPv6.10.1//NONSGML v1.0//EN
CALSCALE:GREGORIAN
METHOD:PUBLISH
X-WR-CALNAME:Philinter Academy
X-ORIGINAL-URL:https://philinter.com
X-WR-CALDESC:Events for Philinter Academy
REFRESH-INTERVAL;VALUE=DURATION:PT1H
X-Robots-Tag:noindex
X-PUBLISHED-TTL:PT1H
BEGIN:VTIMEZONE
TZID:Asia/Manila
BEGIN:STANDARD
TZOFFSETFROM:+0800
TZOFFSETTO:+0800
TZNAME:PST
DTSTART:20260101T000000
END:STANDARD
END:VTIMEZONE
BEGIN:VEVENT
DTSTART;TZID=Asia/Manila:20260408T170000
DTEND;TZID=Asia/Manila:20260408T173000
DTSTAMP:20260423T204214
CREATED:20260413T064307Z
LAST-MODIFIED:20260413T064307Z
UID:10006224-1775667600-1775669400@philinter.com
SUMMARY:Weekly Test
DESCRIPTION:
URL:https://philinter.com/event/weekly-test-66/2026-04-08/
ATTACH;FMTTYPE=image/png:https://philinter.com/wp-content/uploads/2024/09/WEEKLY.png
END:VEVENT
END:VCALENDAR