BEGIN:VCALENDAR
VERSION:2.0
PRODID:-//Philinter Academy - ECPv6.10.1//NONSGML v1.0//EN
CALSCALE:GREGORIAN
METHOD:PUBLISH
X-WR-CALNAME:Philinter Academy
X-ORIGINAL-URL:https://philinter.com
X-WR-CALDESC:Events for Philinter Academy
REFRESH-INTERVAL;VALUE=DURATION:PT1H
X-Robots-Tag:noindex
X-PUBLISHED-TTL:PT1H
BEGIN:VTIMEZONE
TZID:Asia/Manila
BEGIN:STANDARD
TZOFFSETFROM:+0800
TZOFFSETTO:+0800
TZNAME:PST
DTSTART:20240101T000000
END:STANDARD
END:VTIMEZONE
BEGIN:VEVENT
DTSTART;TZID=Asia/Manila:20240624T180000
DTEND;TZID=Asia/Manila:20240624T190000
DTSTAMP:20260423T134010
CREATED:20240613T052545Z
LAST-MODIFIED:20240905T081225Z
UID:8898-1719252000-1719255600@philinter.com
SUMMARY:Yoga
DESCRIPTION:Join us for a rejuvenating journey of self-discovery and inner peace through the practice of yoga. Take a break from the hustle and bustle of daily life and reconnect with your mind\, body\, and spirit.
URL:https://philinter.com/event/yoga-4/
CATEGORIES:Non Academic
ATTACH;FMTTYPE=image/jpeg:https://philinter.com/wp-content/uploads/2024/07/IMG_6961-scaled.jpg
END:VEVENT
END:VCALENDAR