BEGIN:VCALENDAR
VERSION:2.0
PRODID:-//Philinter Academy - ECPv6.10.1//NONSGML v1.0//EN
CALSCALE:GREGORIAN
METHOD:PUBLISH
X-WR-CALNAME:Philinter Academy
X-ORIGINAL-URL:https://philinter.com
X-WR-CALDESC:Events for Philinter Academy
REFRESH-INTERVAL;VALUE=DURATION:PT1H
X-Robots-Tag:noindex
X-PUBLISHED-TTL:PT1H
BEGIN:VTIMEZONE
TZID:Asia/Manila
BEGIN:STANDARD
TZOFFSETFROM:+0800
TZOFFSETTO:+0800
TZNAME:PST
DTSTART:20240101T000000
END:STANDARD
END:VTIMEZONE
BEGIN:VEVENT
DTSTART;TZID=Asia/Manila:20240625T170000
DTEND;TZID=Asia/Manila:20240625T173000
DTSTAMP:20260423T134110
CREATED:20240613T062007Z
LAST-MODIFIED:20240905T081138Z
UID:8949-1719334800-1719336600@philinter.com
SUMMARY:Zumba
DESCRIPTION:Shake off the stress and dance into joy with Zumba! Join us for a heart-pounding\, smile-inducing workout session. Let’s move\, groove\, and have a blast together
URL:https://philinter.com/event/zumba-4/
CATEGORIES:Non Academic
ATTACH;FMTTYPE=image/jpeg:https://philinter.com/wp-content/uploads/2024/09/ZUMBA-scaled.jpg
END:VEVENT
END:VCALENDAR