BEGIN:VCALENDAR
VERSION:2.0
PRODID:-//Philinter Academy - ECPv6.10.1//NONSGML v1.0//EN
CALSCALE:GREGORIAN
METHOD:PUBLISH
X-WR-CALNAME:Philinter Academy
X-ORIGINAL-URL:https://philinter.com
X-WR-CALDESC:Events for Philinter Academy
REFRESH-INTERVAL;VALUE=DURATION:PT1H
X-Robots-Tag:noindex
X-PUBLISHED-TTL:PT1H
BEGIN:VTIMEZONE
TZID:Asia/Manila
BEGIN:STANDARD
TZOFFSETFROM:+0800
TZOFFSETTO:+0800
TZNAME:PST
DTSTART:20260101T000000
END:STANDARD
END:VTIMEZONE
BEGIN:VEVENT
DTSTART;TZID=Asia/Manila:20260424T130000
DTEND;TZID=Asia/Manila:20260424T170000
DTSTAMP:20260425T045947
CREATED:20260413T065547Z
LAST-MODIFIED:20260413T065547Z
UID:10006254-1777035600-1777050000@philinter.com
SUMMARY:English Day
DESCRIPTION:
URL:https://philinter.com/event/english-day-17/
END:VEVENT
BEGIN:VEVENT
DTSTART;TZID=Asia/Manila:20260424T090000
DTEND;TZID=Asia/Manila:20260424T110000
DTSTAMP:20260425T045947
CREATED:20260413T065440Z
LAST-MODIFIED:20260413T065440Z
UID:10006253-1777021200-1777028400@philinter.com
SUMMARY:CALA Grand Fam Tour
DESCRIPTION:
URL:https://philinter.com/event/cala-grand-fam-tour/2026-04-24/
END:VEVENT
BEGIN:VEVENT
DTSTART;TZID=Asia/Manila:20260424T080000
DTEND;TZID=Asia/Manila:20260424T120000
DTSTAMP:20260425T045947
CREATED:20260413T065031Z
LAST-MODIFIED:20260413T065031Z
UID:10006242-1777017600-1777032000@philinter.com
SUMMARY:Progress Test
DESCRIPTION:
URL:https://philinter.com/event/progress-test-72/2026-04-24/
END:VEVENT
BEGIN:VEVENT
DTSTART;TZID=Asia/Manila:20260424T080000
DTEND;TZID=Asia/Manila:20260424T100500
DTSTAMP:20260425T045947
CREATED:20260413T065115Z
LAST-MODIFIED:20260413T065115Z
UID:10006244-1777017600-1777025100@philinter.com
SUMMARY:TOEIC Mock Test
DESCRIPTION:
URL:https://philinter.com/event/toeic-mock-test-57/2026-04-24/
END:VEVENT
BEGIN:VEVENT
DTSTART;TZID=Asia/Manila:20260423T183000
DTEND;TZID=Asia/Manila:20260423T203000
DTSTAMP:20260425T045947
CREATED:20260413T064744Z
LAST-MODIFIED:20260413T064744Z
UID:10006236-1776969000-1776976200@philinter.com
SUMMARY:Movie Time
DESCRIPTION:
URL:https://philinter.com/event/movie-time-69/2026-04-23/
END:VEVENT
BEGIN:VEVENT
DTSTART;TZID=Asia/Manila:20260423T170000
DTEND;TZID=Asia/Manila:20260423T180000
DTSTAMP:20260425T045947
CREATED:20260413T070006Z
LAST-MODIFIED:20260413T070006Z
UID:10006258-1776963600-1776967200@philinter.com
SUMMARY:Graduation
DESCRIPTION:
URL:https://philinter.com/event/graduation-78/2026-04-23/
END:VEVENT
BEGIN:VEVENT
DTSTART;TZID=Asia/Manila:20260423T090000
DTEND;TZID=Asia/Manila:20260423T110000
DTSTAMP:20260425T045947
CREATED:20260413T065440Z
LAST-MODIFIED:20260413T065440Z
UID:10006252-1776934800-1776942000@philinter.com
SUMMARY:CALA Grand Fam Tour
DESCRIPTION:
URL:https://philinter.com/event/cala-grand-fam-tour/2026-04-23/
END:VEVENT
BEGIN:VEVENT
DTSTART;TZID=Asia/Manila:20260422T180000
DTEND;TZID=Asia/Manila:20260422T185000
DTSTAMP:20260425T045947
CREATED:20260413T064447Z
LAST-MODIFIED:20260413T064447Z
UID:10006230-1776880800-1776883800@philinter.com
SUMMARY:Music Club
DESCRIPTION:
URL:https://philinter.com/event/music-club-57/2026-04-22/
END:VEVENT
BEGIN:VEVENT
DTSTART;TZID=Asia/Manila:20260422T170000
DTEND;TZID=Asia/Manila:20260422T173000
DTSTAMP:20260425T045947
CREATED:20260413T064307Z
LAST-MODIFIED:20260413T064307Z
UID:10006226-1776877200-1776879000@philinter.com
SUMMARY:Weekly Test
DESCRIPTION:
URL:https://philinter.com/event/weekly-test-66/2026-04-22/
ATTACH;FMTTYPE=image/png:https://philinter.com/wp-content/uploads/2024/09/WEEKLY.png
END:VEVENT
BEGIN:VEVENT
DTSTART;TZID=Asia/Manila:20260422T090000
DTEND;TZID=Asia/Manila:20260422T110000
DTSTAMP:20260425T045947
CREATED:20260413T065440Z
LAST-MODIFIED:20260413T065440Z
UID:10006251-1776848400-1776855600@philinter.com
SUMMARY:CALA Grand Fam Tour
DESCRIPTION:
URL:https://philinter.com/event/cala-grand-fam-tour/2026-04-22/
END:VEVENT
BEGIN:VEVENT
DTSTART;TZID=Asia/Manila:20260421T180000
DTEND;TZID=Asia/Manila:20260421T190000
DTSTAMP:20260425T045947
CREATED:20260413T064152Z
LAST-MODIFIED:20260413T064152Z
UID:10006222-1776794400-1776798000@philinter.com
SUMMARY:Board Game Time
DESCRIPTION:
URL:https://philinter.com/event/board-game-time-3/2026-04-21/
ATTACH;FMTTYPE=image/jpeg:https://philinter.com/wp-content/uploads/2025/06/WORDQUEST-IMAGE-08-scaled.jpg
END:VEVENT
BEGIN:VEVENT
DTSTART;TZID=Asia/Manila:20260421T170000
DTEND;TZID=Asia/Manila:20260421T173000
DTSTAMP:20260425T045947
CREATED:20260413T064042Z
LAST-MODIFIED:20260413T064042Z
UID:10006218-1776790800-1776792600@philinter.com
SUMMARY:Zumba
DESCRIPTION:
URL:https://philinter.com/event/zumba-66/2026-04-21/
ATTACH;FMTTYPE=image/jpeg:https://philinter.com/wp-content/uploads/2024/09/ZUMBA-scaled.jpg
END:VEVENT
BEGIN:VEVENT
DTSTART;TZID=Asia/Manila:20260421T090000
DTEND;TZID=Asia/Manila:20260421T110000
DTSTAMP:20260425T045947
CREATED:20260413T065440Z
LAST-MODIFIED:20260413T065440Z
UID:10006250-1776762000-1776769200@philinter.com
SUMMARY:CALA Grand Fam Tour
DESCRIPTION:
URL:https://philinter.com/event/cala-grand-fam-tour/2026-04-21/
END:VEVENT
BEGIN:VEVENT
DTSTART;TZID=Asia/Manila:20260420T180000
DTEND;TZID=Asia/Manila:20260420T190000
DTSTAMP:20260425T045947
CREATED:20260413T063941Z
LAST-MODIFIED:20260413T063941Z
UID:10006214-1776708000-1776711600@philinter.com
SUMMARY:Yoga Basics
DESCRIPTION:
URL:https://philinter.com/event/yoga-basics-5/2026-04-20/
END:VEVENT
BEGIN:VEVENT
DTSTART;TZID=Asia/Manila:20260420T090000
DTEND;TZID=Asia/Manila:20260420T110000
DTSTAMP:20260425T045947
CREATED:20260413T065440Z
LAST-MODIFIED:20260413T065440Z
UID:10006249-1776675600-1776682800@philinter.com
SUMMARY:CALA Grand Fam Tour
DESCRIPTION:
URL:https://philinter.com/event/cala-grand-fam-tour/2026-04-20/
END:VEVENT
BEGIN:VEVENT
DTSTART;TZID=Asia/Manila:20260420T080000
DTEND;TZID=Asia/Manila:20260420T120000
DTSTAMP:20260425T045947
CREATED:20260413T063844Z
LAST-MODIFIED:20260413T063844Z
UID:10006210-1776672000-1776686400@philinter.com
SUMMARY:Placement Test
DESCRIPTION:
URL:https://philinter.com/event/placement-test-68/2026-04-20/
ATTACH;FMTTYPE=image/png:https://philinter.com/wp-content/uploads/2024/09/PLACEMENT.png
END:VEVENT
BEGIN:VEVENT
DTSTART;TZID=Asia/Manila:20260418T140000
DTEND;TZID=Asia/Manila:20260418T160000
DTSTAMP:20260425T045947
CREATED:20260413T065728Z
LAST-MODIFIED:20260413T065728Z
UID:10006255-1776520800-1776528000@philinter.com
SUMMARY:Outreach Program
DESCRIPTION:
URL:https://philinter.com/event/outreach-program-14/2026-04-18/
END:VEVENT
BEGIN:VEVENT
DTSTART;TZID=Asia/Manila:20260418T090000
DTEND;TZID=Asia/Manila:20260418T120000
DTSTAMP:20260425T045947
CREATED:20260413T065329Z
LAST-MODIFIED:20260413T065329Z
UID:10006247-1776502800-1776513600@philinter.com
SUMMARY:IELTS Mock Test
DESCRIPTION:
URL:https://philinter.com/event/ielts-mock-test-71/2026-04-18/
END:VEVENT
BEGIN:VEVENT
DTSTART;TZID=Asia/Manila:20260418T080000
DTEND;TZID=Asia/Manila:20260418T170000
DTSTAMP:20260425T045947
CREATED:20260413T065247Z
LAST-MODIFIED:20260413T065247Z
UID:10006246-1776499200-1776531600@philinter.com
SUMMARY:Fogging
DESCRIPTION:
URL:https://philinter.com/event/fogging-40/
ATTACH;FMTTYPE=image/webp:https://philinter.com/wp-content/uploads/2024/07/fogginggg.webp
END:VEVENT
BEGIN:VEVENT
DTSTART;TZID=Asia/Manila:20260417T170000
DTEND;TZID=Asia/Manila:20260417T180000
DTSTAMP:20260425T045947
CREATED:20260413T065201Z
LAST-MODIFIED:20260413T065201Z
UID:10006245-1776445200-1776448800@philinter.com
SUMMARY:Graduation
DESCRIPTION:
URL:https://philinter.com/event/graduation-77/
END:VEVENT
BEGIN:VEVENT
DTSTART;TZID=Asia/Manila:20260417T080000
DTEND;TZID=Asia/Manila:20260417T120000
DTSTAMP:20260425T045947
CREATED:20260413T065031Z
LAST-MODIFIED:20260413T065031Z
UID:10006241-1776412800-1776427200@philinter.com
SUMMARY:Progress Test
DESCRIPTION:
URL:https://philinter.com/event/progress-test-72/2026-04-17/
END:VEVENT
BEGIN:VEVENT
DTSTART;TZID=Asia/Manila:20260417T080000
DTEND;TZID=Asia/Manila:20260417T100500
DTSTAMP:20260425T045947
CREATED:20260413T065115Z
LAST-MODIFIED:20260413T065115Z
UID:10006243-1776412800-1776420300@philinter.com
SUMMARY:TOEIC Mock Test
DESCRIPTION:
URL:https://philinter.com/event/toeic-mock-test-57/2026-04-17/
END:VEVENT
BEGIN:VEVENT
DTSTART;TZID=Asia/Manila:20260416T183000
DTEND;TZID=Asia/Manila:20260416T203000
DTSTAMP:20260425T045947
CREATED:20260413T064744Z
LAST-MODIFIED:20260413T064744Z
UID:10006235-1776364200-1776371400@philinter.com
SUMMARY:Movie Time
DESCRIPTION:
URL:https://philinter.com/event/movie-time-69/2026-04-16/
END:VEVENT
BEGIN:VEVENT
DTSTART;TZID=Asia/Manila:20260415T180000
DTEND;TZID=Asia/Manila:20260415T185000
DTSTAMP:20260425T045947
CREATED:20260413T064447Z
LAST-MODIFIED:20260413T064447Z
UID:10006229-1776276000-1776279000@philinter.com
SUMMARY:Music Club
DESCRIPTION:
URL:https://philinter.com/event/music-club-57/2026-04-15/
END:VEVENT
BEGIN:VEVENT
DTSTART;TZID=Asia/Manila:20260415T170000
DTEND;TZID=Asia/Manila:20260415T173000
DTSTAMP:20260425T045947
CREATED:20260413T064307Z
LAST-MODIFIED:20260413T064307Z
UID:10006225-1776272400-1776274200@philinter.com
SUMMARY:Weekly Test
DESCRIPTION:
URL:https://philinter.com/event/weekly-test-66/2026-04-15/
ATTACH;FMTTYPE=image/png:https://philinter.com/wp-content/uploads/2024/09/WEEKLY.png
END:VEVENT
BEGIN:VEVENT
DTSTART;TZID=Asia/Manila:20260414T180000
DTEND;TZID=Asia/Manila:20260414T190000
DTSTAMP:20260425T045947
CREATED:20260413T064152Z
LAST-MODIFIED:20260413T064152Z
UID:10006221-1776189600-1776193200@philinter.com
SUMMARY:Board Game Time
DESCRIPTION:
URL:https://philinter.com/event/board-game-time-3/2026-04-14/
ATTACH;FMTTYPE=image/jpeg:https://philinter.com/wp-content/uploads/2025/06/WORDQUEST-IMAGE-08-scaled.jpg
END:VEVENT
BEGIN:VEVENT
DTSTART;TZID=Asia/Manila:20260414T170000
DTEND;TZID=Asia/Manila:20260414T173000
DTSTAMP:20260425T045947
CREATED:20260413T064042Z
LAST-MODIFIED:20260413T064042Z
UID:10006217-1776186000-1776187800@philinter.com
SUMMARY:Zumba
DESCRIPTION:
URL:https://philinter.com/event/zumba-66/2026-04-14/
ATTACH;FMTTYPE=image/jpeg:https://philinter.com/wp-content/uploads/2024/09/ZUMBA-scaled.jpg
END:VEVENT
BEGIN:VEVENT
DTSTART;TZID=Asia/Manila:20260413T180000
DTEND;TZID=Asia/Manila:20260413T190000
DTSTAMP:20260425T045947
CREATED:20260413T063941Z
LAST-MODIFIED:20260413T063941Z
UID:10006213-1776103200-1776106800@philinter.com
SUMMARY:Yoga Basics
DESCRIPTION:
URL:https://philinter.com/event/yoga-basics-5/2026-04-13/
END:VEVENT
BEGIN:VEVENT
DTSTART;TZID=Asia/Manila:20260413T080000
DTEND;TZID=Asia/Manila:20260413T120000
DTSTAMP:20260425T045947
CREATED:20260413T063844Z
LAST-MODIFIED:20260413T063844Z
UID:10006209-1776067200-1776081600@philinter.com
SUMMARY:Placement Test
DESCRIPTION:
URL:https://philinter.com/event/placement-test-68/2026-04-13/
ATTACH;FMTTYPE=image/png:https://philinter.com/wp-content/uploads/2024/09/PLACEMENT.png
END:VEVENT
BEGIN:VEVENT
DTSTART;TZID=Asia/Manila:20260410T090000
DTEND;TZID=Asia/Manila:20260410T120000
DTSTAMP:20260425T045947
CREATED:20260413T064939Z
LAST-MODIFIED:20260413T064939Z
UID:10006240-1775811600-1775822400@philinter.com
SUMMARY:IELTS Mock Test
DESCRIPTION:
URL:https://philinter.com/event/ielts-mock-test-70/
END:VEVENT
END:VCALENDAR